BEGIN:VCALENDAR
VERSION:2.0
PRODID:-//TYPO3/NONSGML Calendarize//EN


BEGIN:VEVENT
UID:calendarize-noker-kuldigu-foto-orientesanas-2026
DTSTAMP:20260422T101245Z

DTSTART:20260425T070000Z
DTEND:20260424T210000Z
    
SUMMARY:Noķer Kuldīgu: Foto orientēšanās 2026
DESCRIPTION:Pasākuma mērķis ir veicināt fiziskās aktivitātes kā kvalitatīvu brīvā laika pavadīšanas veidu\, attīstīt komandas darbu un radošumu\, kā arī popularizēt Kuldīgas pilsētvidi. Dalībniekiem būs iespēja iepazīt pilsētu no cita skatpunkta\, apvienojot kustību ar izzinošu un izklaidējošu pieredzi.\nPasākuma laikā dalībnieki komandās pārvietosies pa Kuldīgas pilsētu\, meklējot kontrolpunktus un izpildot dažādus uzdevumus. Kopumā plānots izveidot līdz 30 kontrolpunktiem\, kuros būs gan radoši\, gan loģiski\, gan aktīvi uzdevumi. Katrs uzdevums būs jāfiksē foto formātā\, īpašu uzmanību pievēršot radošumam un izpildes kvalitātei.\nReģistrācija pasākumam notiks no plkst. 10.00 līdz 11.00\, savukārt starts tiks dots plkst. 11.00. Trase būs atvērta līdz plkst. 14.30\, un komandu uzdevums būs noteiktajā laikā apmeklēt pēc iespējas vairāk kontrolpunktu un iegūt lielāko punktu skaitu. Pasākuma noslēgumā plkst. 15.00 paredzēta apbalvošana\, kurā tiks godinātas trīs labākās komandas.\nDalībai aicinātas komandas 3–5 cilvēku sastāvā\, un pasākums ir piemērots ikvienam interesentam. Dalībnieki pārvietosies pa pilsētu ar kājām\, ievērojot ceļu satiksmes noteikumus un pasākuma nolikumu.\nDalība pasākumā ir bez maksas.\n Pieteikšanās pasākumam notiek elektroniski līdz 2026. gada 24. aprīļa plkst. 22.00\, aizpildot pieteikuma anketu tiešsaistē\, savukārt ierobežotā skaitā būs iespējams pieteikties arī uz vietas pasākuma dienā.\nKomandas tiks vērtētas pēc savākto punktu skaita\, kas iegūts\, izpildot uzdevumus kontrolpunktos\, kā arī papildus tiks ņemts vērā radošums. Labākās komandas saņems balvas.\nPasākumu organizē Latvijas Universitātes studentu komanda studiju kursa ietvaros.\nAr pasākuma nolikumu iespējams iepazīties šeit.\nAicinām ikvienu pievienoties un izbaudīt kustību\, komandas darbu un pozitīvas emocijas\, kopā atklājot Kuldīgu no jauna!
X-ALT-DESC;FMTTYPE=text/html:<p>Pasākuma mērķis ir veicināt fiziskās aktivitātes kā kvalitatīvu brīvā laika pavadīšanas veidu\, attīstīt komandas darbu un radošumu\, kā arī popularizēt Kuldīgas pilsētvidi. Dalībniekiem būs iespēja iepazīt pilsētu no cita skatpunkta\, apvienojot kustību ar izzinošu un izklaidējošu pieredzi.</p>\n<p>Pasākuma laikā dalībnieki komandās pārvietosies pa Kuldīgas pilsētu\, meklējot kontrolpunktus un izpildot dažādus uzdevumus. Kopumā plānots izveidot līdz 30 kontrolpunktiem\, kuros būs gan radoši\, gan loģiski\, gan aktīvi uzdevumi. Katrs uzdevums būs jāfiksē foto formātā\, īpašu uzmanību pievēršot radošumam un izpildes kvalitātei.</p>\n<p>Reģistrācija pasākumam notiks no plkst. 10.00 līdz 11.00\, savukārt starts tiks dots plkst. 11.00. Trase būs atvērta līdz plkst. 14.30\, un komandu uzdevums būs noteiktajā laikā apmeklēt pēc iespējas vairāk kontrolpunktu un iegūt lielāko punktu skaitu. Pasākuma noslēgumā plkst. 15.00 paredzēta apbalvošana\, kurā tiks godinātas trīs labākās komandas.</p>\n<p>Dalībai aicinātas komandas 3–5 cilvēku sastāvā\, un pasākums ir piemērots ikvienam interesentam. Dalībnieki pārvietosies pa pilsētu ar kājām\, ievērojot ceļu satiksmes noteikumus un pasākuma nolikumu.</p>\n<p>Dalība pasākumā ir bez maksas.</p>\n<p>&nbsp\;<a href="https://forms.gle/3uBzcqtwJcM94FoW9" target="_blank" rel="noreferrer">Pieteikšanās pasākumam</a> notiek elektroniski līdz 2026. gada 24. aprīļa plkst. 22.00\, aizpildot pieteikuma anketu tiešsaistē\, savukārt ierobežotā skaitā būs iespējams pieteikties arī uz vietas pasākuma dienā.</p>\n<p>Komandas tiks vērtētas pēc savākto punktu skaita\, kas iegūts\, izpildot uzdevumus kontrolpunktos\, kā arī papildus tiks ņemts vērā radošums. Labākās komandas saņems balvas.</p>\n<p>Pasākumu organizē Latvijas Universitātes studentu komanda studiju kursa ietvaros.</p>\n<p>Ar pasākuma nolikumu iespējams iepazīties <a href="t3://file?uid=624600">šeit.</a></p>\n<p>Aicinām ikvienu pievienoties un izbaudīt kustību\, komandas darbu un pozitīvas emocijas\, kopā atklājot Kuldīgu no jauna!</p>
LOCATION:Kuldīga
END:VEVENT

END:VCALENDAR